BEGIN:VCALENDAR
VERSION:2.0
PRODID:-//Tukios.com/
BEGIN:VEVENT
UID:6b016d87-1544-4265-ba16-819b393d5053@www.independentfuneralservices.com
DTSTAMP:20260424T211102Z
DTSTART:20260502T183000Z
DTEND:20260502T184500Z
SUMMARY:Burial
DESCRIPTION:
URL:https://www.independentfuneralservices.com/obituaries/peggy-nish
LOCATION: 2224 S 200 W  Bountiful UT 84010
GEO:40.8660768;-111.8860628
END:VEVENT
END:VCALENDAR