BEGIN:VCALENDAR
VERSION:2.0
PRODID:-//Tukios.com/
BEGIN:VEVENT
UID:5027e13f-fc2e-4004-9684-e5dfc7330b7e@www.independentfuneralservices.com
DTSTAMP:20260424T211215Z
DTSTART:20260502T170000Z
DTEND:20260502T180000Z
SUMMARY:Funeral Service
DESCRIPTION:
URL:https://www.independentfuneralservices.com/obituaries/peggy-nish
LOCATION:The Church of Jesus Christ of Latter-day Saints Adelaide Ward 
	Chapel 3599 South Orchard Drive  Bountiful UT 84010
GEO:40.8507646;-111.8950523
END:VEVENT
END:VCALENDAR