BEGIN:VCALENDAR
VERSION:2.0
PRODID:-//Tukios.com/
BEGIN:VEVENT
UID:ecfabee3-d6e6-4f1f-82e0-93094e7c310f@www.independentfuneralservices.com
DTSTAMP:20260424T210919Z
DTSTART:20260502T150000Z
DTEND:20260502T164500Z
SUMMARY:Viewing
DESCRIPTION:
URL:https://www.independentfuneralservices.com/obituaries/peggy-nish
LOCATION:The Church of Jesus Christ of Latter-day Saints Adelaide Ward 
	Chapel 3599 South Orchard Drive  Bountiful UT 84010
GEO:40.8506703;-111.8953227
END:VEVENT
END:VCALENDAR